BEGIN:VCALENDAR
VERSION:2.0
PRODID:-//Library Market//iCal Export//EN
BEGIN:VEVENT
SUMMARY:Art in the Garden
UID:6288
DTSTAMP:20260424T031100Z
DTSTART:20260526T213000Z
DTEND:20260526T230000Z
LOCATION:2005 S. High St., Muncie, IN 47302, United States
ROOM: MH-Garden Area
DESCRIPTION:Join  MPL and the BSU Art education students for a step by st
 ep lesson in watercolor painting.  A fun watercolor workshop in the Marin
 g-Hunt Gardens. At the end you will have a one of a kind watercolor painti
 ng to take home!  All supplies will be provided.  Free to attend. For a
 ges 13 and older.  No experience necessary, all artistic levels welcome.
URL:https://www.munciepubliclibrary.org/event/art-garden-6288
END:VEVENT
END:VCALENDAR
