BEGIN:VCALENDAR
VERSION:2.0
PRODID:-//Library Market//iCal Export//EN
BEGIN:VEVENT
SUMMARY:Kids Art Mash-Up
UID:6287
DTSTAMP:20260424T031100Z
DTSTART:20260511T190000Z
DTEND:20260511T210000Z
LOCATION:1824 E. Centennial Ave., Muncie, IN 47303, United States
ROOM: CL-Outside
DESCRIPTION:
URL:https://www.munciepubliclibrary.org/event/kids-art-mash-6287
END:VEVENT
END:VCALENDAR
