BEGIN:VCALENDAR
VERSION:2.0
PRODID:-//Library Market//iCal Export//EN
BEGIN:VEVENT
SUMMARY:SRP: Turtle&#039;s Dig the Story  (Ages 5-10)
UID:6011
DTSTAMP:20260422T204100Z
DTSTART:20260709T143000Z
DTEND:20260709T153000Z
LOCATION:1700 W. McGalliard Rd., Muncie, IN 47304, United States
ROOM: KB-Green Space
DESCRIPTION:Beaker the Box Turtle and Eric Oliver from BSU Field Station a
 nd Environmental Education Center will be joining us to explore the dirty 
 world of Beaker! Come learn about box turtles, enjoy hands-on activities, 
 and meet Beaker! Note: This program will meet in the Kennedy green space.
  
URL:https://www.munciepubliclibrary.org/event/srp-turtles-dig-story-ages-5
 -10-6011
END:VEVENT
END:VCALENDAR
