BEGIN:VCALENDAR
VERSION:2.0
PRODID:-//Library Market//iCal Export//EN
BEGIN:VEVENT
SUMMARY:SRP: Stone Dragons Unearthed! (Age 9-14)
UID:6004
DTSTAMP:20260422T213500Z
DTSTART:20260720T193000Z
DTEND:20260720T203000Z
LOCATION:1700 W. McGalliard Rd., Muncie, IN 47304, United States
ROOM: KB-Story Room
DESCRIPTION:From deep within the earth comes the story of the stone dragon
 ! Join us as we create our own stone dragon from polymer clay and explore 
 all the interesting stories of dragons at Kennedy Library. 
URL:https://www.munciepubliclibrary.org/event/srp-stone-dragons-unearthed-
 age-9-14-6004
END:VEVENT
END:VCALENDAR
