BEGIN:VCALENDAR
VERSION:2.0
PRODID:-//Library Market//iCal Export//EN
BEGIN:VEVENT
SUMMARY:SRP: Songs from the Past, Can You Dig It?(Age 9-14)
UID:6002
DTSTAMP:20260422T083100Z
DTSTART:20260706T193000Z
DTEND:20260706T203000Z
LOCATION:1700 W. McGalliard Rd., Muncie, IN 47304, United States
ROOM: KB-Meeting Room
DESCRIPTION:Travel through the decades with some of the most famous songs 
 and sing along! Join us for Karaoke through the decades! Unearth the magic
  of music at Kennedy Library. 
URL:https://www.munciepubliclibrary.org/event/srp-songs-past-can-you-dig-i
 tage-9-14-6002
END:VEVENT
END:VCALENDAR
